BEGIN:VCALENDAR
VERSION:2.0
PRODID:spatie/icalendar-generator
DESCRIPTION:Veranstaltungen von Freiwillige Feuerwehr Ronhof-Kronach
X-WR-CALDESC:Veranstaltungen von Freiwillige Feuerwehr Ronhof-Kronach
REFRESH-INTERVAL;VALUE=DURATION:PT1440M
X-PUBLISHED-TTL:PT1440M
BEGIN:VTIMEZONE
TZID:Europe/Berlin
BEGIN:STANDARD
DTSTART:20171029T030000Z
TZOFFSETFROM:+0200
TZOFFSETTO:+0100
END:STANDARD
BEGIN:DAYLIGHT
DTSTART:20180325T020000Z
TZOFFSETFROM:+0100
TZOFFSETTO:+0200
END:DAYLIGHT
END:VTIMEZONE
BEGIN:VTIMEZONE
TZID:UTC
BEGIN:STANDARD
DTSTART:20250724T104052Z
TZOFFSETFROM:+0000
TZOFFSETTO:+0000
END:STANDARD
END:VTIMEZONE
BEGIN:VEVENT
UID:29-28
DTSTAMP:20260420T104052Z
SUMMARY:Entfällt: FF - Erste Hilfe Workshop
LOCATION:Feuerwehrhaus Ronhofer Hauptstraße 233  Fürth Bayern 90765
ORGANIZER;CN=ronhof:MAILTO:webmaster@ronhof.online
DTSTART;TZID=Europe/Berlin:20180303T073000
DTEND;TZID=Europe/Berlin:20180303T083000
X-ALT-DESC;FMTTYPE=TEXT/HTML:Muss wg. Krankheit abgesagt werden
CATEGORIES:Übung
URL;VALUE=URI:
METHOD:PUBLISH
END:VEVENT
END:VCALENDAR